BEGIN:VCALENDAR
VERSION:2.0
PRODID:spatie/icalendar-generator
DESCRIPTION:Events from Evil Gear
X-WR-CALDESC:Events from Evil Gear
REFRESH-INTERVAL;VALUE=DURATION:PT1440M
X-PUBLISHED-TTL:PT1440M
BEGIN:VTIMEZONE
TZID:Etc/GMT+5
BEGIN:STANDARD
DTSTART:20260317T073000Z
TZOFFSETFROM:-0500
TZOFFSETTO:-0500
END:STANDARD
END:VTIMEZONE
BEGIN:VTIMEZONE
TZID:UTC
BEGIN:STANDARD
DTSTART:20250724T045747Z
TZOFFSETFROM:+0000
TZOFFSETTO:+0000
END:STANDARD
END:VTIMEZONE
BEGIN:VEVENT
UID:50-13
DTSTAMP:20260420T045747Z
SUMMARY:Tactical Rifle 101
LOCATION:
ORGANIZER;CN=wilcox_steve:MAILTO:wilcox_steve@yahoo.com
DTSTART;TZID=Etc/GMT+5:20261212T073000
DTEND;TZID=Etc/GMT+5:20261212T163000
X-ALT-DESC;FMTTYPE=TEXT/HTML:This class will be held at an outdoor training
  facility in Georgia. Training will be conducted 8AM to 5PM Saturday. Call
  or click for more info.
CATEGORIES:General
URL;VALUE=URI:https://evilgear.com/mc-events/tactical-rifle-101/
METHOD:PUBLISH
END:VEVENT
END:VCALENDAR