BEGIN:VCALENDAR
VERSION:2.0
PRODID:spatie/icalendar-generator
DESCRIPTION:Events from Evil Gear
X-WR-CALDESC:Events from Evil Gear
REFRESH-INTERVAL;VALUE=DURATION:PT1440M
X-PUBLISHED-TTL:PT1440M
BEGIN:VTIMEZONE
TZID:Etc/GMT+5
BEGIN:STANDARD
DTSTART:20260303T073000Z
TZOFFSETFROM:-0500
TZOFFSETTO:-0500
END:STANDARD
END:VTIMEZONE
BEGIN:VTIMEZONE
TZID:UTC
BEGIN:STANDARD
DTSTART:20250723T234015Z
TZOFFSETFROM:+0000
TZOFFSETTO:+0000
END:STANDARD
END:VTIMEZONE
BEGIN:VEVENT
UID:49-12
DTSTAMP:20260419T234015Z
SUMMARY:Defensive Handgun 104
LOCATION:
ORGANIZER;CN=wilcox_steve:MAILTO:wilcox_steve@yahoo.com
DTSTART;TZID=Etc/GMT+5:20261128T073000
DTEND;TZID=Etc/GMT+5:20261128T160000
X-ALT-DESC;FMTTYPE=TEXT/HTML:Prerequisite\; must have completed Defensive H
 andgun 103 for admission. This class will be held at an outdoor training f
 acility in Georgia. Training will be conducted 8AM to 5PM Saturday. Call o
 r click for more info.
CATEGORIES:General
URL;VALUE=URI:https://evilgear.com/mc-events/defensive-handgun-104-2/
METHOD:PUBLISH
END:VEVENT
END:VCALENDAR