BEGIN:VCALENDAR
VERSION:2.0
PRODID:spatie/icalendar-generator
DESCRIPTION:Events from Evil Gear
X-WR-CALDESC:Events from Evil Gear
REFRESH-INTERVAL;VALUE=DURATION:PT1440M
X-PUBLISHED-TTL:PT1440M
BEGIN:VTIMEZONE
TZID:Etc/GMT+5
BEGIN:STANDARD
DTSTART:20260120T073000Z
TZOFFSETFROM:-0500
TZOFFSETTO:-0500
END:STANDARD
END:VTIMEZONE
BEGIN:VTIMEZONE
TZID:UTC
BEGIN:STANDARD
DTSTART:20250725T081924Z
TZOFFSETFROM:+0000
TZOFFSETTO:+0000
END:STANDARD
END:VTIMEZONE
BEGIN:VEVENT
UID:48-11
DTSTAMP:20260421T081924Z
SUMMARY:Defensive Handgun 102
LOCATION:
ORGANIZER;CN=wilcox_steve:MAILTO:wilcox_steve@yahoo.com
DTSTART;TZID=Etc/GMT+5:20261017T073000
DTEND;TZID=Etc/GMT+5:20261017T160000
X-ALT-DESC;FMTTYPE=TEXT/HTML:Defensive Handgun 102 So\, you’ve learned ho
 w to shoot\, well now it’s time to take this to the next level.  The wo
 rld is more dynamic than a flat range with only 45 degrees.  Exclusively 
 taught at our outdoor training facility\, this course focuses on shooting 
 on the move\, cover and concealment\, tactics\, and true world&amp;hellip\;
CATEGORIES:General
URL;VALUE=URI:https://evilgear.com/mc-events/defensive-handgun-102-2/
METHOD:PUBLISH
END:VEVENT
END:VCALENDAR