BEGIN:VCALENDAR
VERSION:2.0
PRODID:spatie/icalendar-generator
DESCRIPTION:Events from Evil Gear
X-WR-CALDESC:Events from Evil Gear
REFRESH-INTERVAL;VALUE=DURATION:PT1440M
X-PUBLISHED-TTL:PT1440M
BEGIN:VTIMEZONE
TZID:Etc/GMT+5
BEGIN:STANDARD
DTSTART:20260221T080000Z
TZOFFSETFROM:-0500
TZOFFSETTO:-0500
END:STANDARD
END:VTIMEZONE
BEGIN:VTIMEZONE
TZID:UTC
BEGIN:STANDARD
DTSTART:20250723T182615Z
TZOFFSETFROM:+0000
TZOFFSETTO:+0000
END:STANDARD
END:VTIMEZONE
BEGIN:VEVENT
UID:42-5
DTSTAMP:20260419T182615Z
SUMMARY:First Aid/CPR/AED/STB/O2/Torniquet
LOCATION:
ORGANIZER;CN=wilcox_steve:MAILTO:wilcox_steve@yahoo.com
DTSTART;TZID=Etc/GMT+5:20261118T080000
DTEND;TZID=Etc/GMT+5:20261118T160000
X-ALT-DESC;FMTTYPE=TEXT/HTML:Located at The Tavern in Woodstock GA. Call or
  click here to see more.
CATEGORIES:General
URL;VALUE=URI:https://evilgear.com/mc-events/first-aid-cpr-aed-stb-o2-torni
 quet/
METHOD:PUBLISH
END:VEVENT
END:VCALENDAR